BEGIN:VCALENDAR
VERSION:2.0
PRODID:-//Fraunhofer-Gesellschaft//Fraunhofer ISC\, Center for High Tempera
 ture Materials and Design HTL\, Bayreuth//EN
BEGIN:VEVENT
UID:b15e8aee-c859-466c-8aeb-9a4b82875886
DTSTAMP:20260220T202748Z
SUMMARY:Ceramitec 2026
DTSTART:20260324T080000Z
DTEND:20260326T170000Z
END:VEVENT
END:VCALENDAR
